BEGIN:VCALENDAR
VERSION:2.0
PRODID:icalendar-ruby
CALSCALE:GREGORIAN
METHOD:PUBLISH
BEGIN:VEVENT
DTSTAMP:20260420T152652Z
UID:11-607558@nebc.online
DTSTART:20251012T150000Z
DTEND:20251012T160000Z
CLASS:PUBLIC
CREATED:20260420T103243
DESCRIPTION:
LAST-MODIFIED:20260420T103243
LOCATION:North End Baptist
SUMMARY:worship Service
URL;VALUE=URI:https://www.nebc.online/events/worship-service--11/2025-10-12
ATTACH;FILENAME=church-front.png;FMTTYPE=image/png:https://dq5pwpg1q8ru0.cl
 oudfront.net/2024/07/10/20/15/39/8e13f722-5fb2-44fb-9a0a-5f8fe8f3168b/chur
 ch-front.png
END:VEVENT
END:VCALENDAR
